BEGIN:VCALENDAR
VERSION:2.0
PRODID:-//Family Service - ECPv6.10.1//NONSGML v1.0//EN
CALSCALE:GREGORIAN
METHOD:PUBLISH
X-ORIGINAL-URL:https://family-service.org
X-WR-CALDESC:Events for Family Service
REFRESH-INTERVAL;VALUE=DURATION:PT1H
X-Robots-Tag:noindex
X-PUBLISHED-TTL:PT1H
BEGIN:VTIMEZONE
TZID:America/Mexico_City
BEGIN:DAYLIGHT
TZOFFSETFROM:-0600
TZOFFSETTO:-0500
TZNAME:CDT
DTSTART:20210404T080000
END:DAYLIGHT
BEGIN:STANDARD
TZOFFSETFROM:-0500
TZOFFSETTO:-0600
TZNAME:CST
DTSTART:20211031T070000
END:STANDARD
END:VTIMEZONE
BEGIN:VEVENT
DTSTART;VALUE=DATE:20210701
DTEND;VALUE=DATE:20210801
DTSTAMP:20260420T231122
CREATED:20210721T042836Z
LAST-MODIFIED:20210729T180212Z
UID:10000051-1625097600-1627775999@family-service.org
SUMMARY:Ancira Auto Group: Backpack Drive
DESCRIPTION:Donate a backpack at an Ancira location and help our students feel confident and prepared to start the new year! \nAny Ancira location in San Antonio\, Boerne\, or Floresville
URL:https://family-service.org/event/ancira-auto-group-backpack-drive/
ATTACH;FMTTYPE=image/png:https://family-service.org/wp-content/uploads/2021/07/getfile.png
END:VEVENT
END:VCALENDAR