BEGIN:VCALENDAR
VERSION:2.0
PRODID:-//Family Service - ECPv6.10.1//NONSGML v1.0//EN
CALSCALE:GREGORIAN
METHOD:PUBLISH
X-ORIGINAL-URL:https://family-service.org
X-WR-CALDESC:Events for Family Service
REFRESH-INTERVAL;VALUE=DURATION:PT1H
X-Robots-Tag:noindex
X-PUBLISHED-TTL:PT1H
BEGIN:VTIMEZONE
TZID:America/Mexico_City
BEGIN:STANDARD
TZOFFSETFROM:-0600
TZOFFSETTO:-0600
TZNAME:CST
DTSTART:20230101T000000
END:STANDARD
END:VTIMEZONE
BEGIN:VEVENT
DTSTART;TZID=America/Mexico_City:20251018T080000
DTEND;TZID=America/Mexico_City:20251018T130000
DTSTAMP:20260423T120743
CREATED:20240815T174116Z
LAST-MODIFIED:20250926T115659Z
UID:10001498-1760774400-1760792400@family-service.org
SUMMARY:2nd Annual Take a Walk on the Westside to Elmendorf Lake Park
DESCRIPTION:[vc_row type=”in_container” full_screen_row_position=”middle” column_margin=”default” column_direction=”default” column_direction_tablet=”default” column_direction_phone=”default” scene_position=”center” text_color=”dark” text_align=”left” row_border_radius=”none” row_border_radius_applies=”bg” overlay_strength=”0.3″ gradient_direction=”left_to_right” shape_divider_position=”bottom” bg_image_animation=”none”][vc_column column_padding=”no-extra-padding” column_padding_tablet=”inherit” column_padding_phone=”inherit” column_padding_position=”all” column_element_spacing=”default” background_color_opacity=”1″ background_hover_color_opacity=”1″ column_shadow=”none” column_border_radius=”none” column_link_target=”_self” gradient_direction=”left_to_right” overlay_strength=”0.3″ width=”1/1″ tablet_width_inherit=”default” tablet_text_alignment=”default” phone_text_alignment=”default” bg_image_animation=”none” border_type=”simple” column_border_width=”none” column_border_style=”solid”][vc_column_text]\nTake a walk on the Westside! Come and walk to Elmendorf Park. The AVA: America’s Walking Club and Family Service invite you to come and do a morning of walking. Walks include a 10k\, a 5K walk (optional Guided)\, and a 1K (optional Guided) walk for beginners.\n$25 per walker\nRegistration includes a T-shirt. Medals presented to all finishers. Start/Finish point will have a free health fair with food and entertainment.\n*Children 12 and under are FREE\n11:00 am – Live entertainment by multi award winning Elvis Tribute Artist\, Travis Hudson\n12pm – Children’s Bike give away! Child must be present to win.\n\nClick here to Register\n\nDISCLAIMER OF LIABILITY (By Registering\, You agree to the following)\nIn consideration of being allowed to participate in any way in AVA volkssporting programs and related events and activities\, the undersigned/Registrant:\n1. Agrees that before or during my participation\, if I believe anything is unsafe\, I will immediately advise the event supervisor or other person in authority at the volkssporting program and the related events and activities of such conditions and refuse to participate:\n2. Acknowledges and fully understands that each participant will be engaging in activities that involve the risk of serious injury\, including permanent disability and death and severe social and economic losses which might result not only from my own actions\, inactions or negligence of others\, or the condition of the premises\, the trail or any equipment used. Further\, that there may be other risks not known to us or not reasonably foreseeable at this time.\n3. Assumes all the foregoing risks and accept personal responsibility for the damages following such injury\, permanent disability or death;\n4. Release\, waive\, discharge and promise not to sue the American Volkssport Association\, its affiliated clubs\, their respective administrators\, directors\, agents\, or other volunteers and employees of the organization\, other participants\, sponsoring agencies\, sponsors\, advertisers and if applicable\, owners and leasers of premises used to conduct the event\, all of which are hereinafter referred to as “releasees”\, from demands\, losses or damages on account of injury\, including death or damage to property\, caused or alleged to be caused in whole or in part by the negligence of the releasee or otherwise.\n5. Members\, please be aware that when you share photos\, via digital image or otherwise\, with AVA\, such photos or images become the property of AVA And AVA\, its legal representatives and assigns\, retain the right and permission to publish\, any such photo or image in any written or electronic publication\, including Checkpoint or TAW\, on social media\, websites\, or in audiovisual presentations\, promotional literature\, advertising or in similar ways.\n[/vc_column_text][/vc_column][/vc_row]
URL:https://family-service.org/event/take-a-walk-on-the-westside-to-elmendorf-lake-park/
LOCATION:Family Service Neighborhood Place\, 3014 Rivas St.\, San Antonio\, TX\, 78228\, United States
CATEGORIES:Family Service,Partnerships
ATTACH;FMTTYPE=image/png:https://family-service.org/wp-content/uploads/2024/08/2nd-annual-take-a-walk-on-the-westside-horizontal-flyer-e1756405219485.png
GEO:29.4418028;-98.556136
X-APPLE-STRUCTURED-LOCATION;VALUE=URI;X-ADDRESS=Family Service Neighborhood Place 3014 Rivas St. San Antonio TX 78228 United States;X-APPLE-RADIUS=500;X-TITLE=3014 Rivas St.:geo:-98.556136,29.4418028
END:VEVENT
BEGIN:VEVENT
DTSTART;TZID=America/Mexico_City:20230812T090000
DTEND;TZID=America/Mexico_City:20230812T130000
DTSTAMP:20260423T120743
CREATED:20230728T213613Z
LAST-MODIFIED:20230728T213613Z
UID:10001120-1691830800-1691845200@family-service.org
SUMMARY:Free Homebuyer Workshop
DESCRIPTION:[vc_row type=”in_container” full_screen_row_position=”middle” column_margin=”default” column_direction=”default” column_direction_tablet=”default” column_direction_phone=”default” scene_position=”center” text_color=”dark” text_align=”left” row_border_radius=”none” row_border_radius_applies=”bg” overlay_strength=”0.3″ gradient_direction=”left_to_right” shape_divider_position=”bottom” bg_image_animation=”none”][vc_column column_padding=”no-extra-padding” column_padding_tablet=”inherit” column_padding_phone=”inherit” column_padding_position=”all” column_element_spacing=”default” background_color_opacity=”1″ background_hover_color_opacity=”1″ column_shadow=”none” column_border_radius=”none” column_link_target=”_self” gradient_direction=”left_to_right” overlay_strength=”0.3″ width=”1/1″ tablet_width_inherit=”default” tablet_text_alignment=”default” phone_text_alignment=”default” bg_image_animation=”none” border_type=”simple” column_border_width=”none” column_border_style=”solid”][vc_column_text]Free homebuyers workshop presented by NACA and Family Service. Learn about taking the first steps on home ownership. Sign up at www.naca.com or Call Toll Free: 425-602-6222[/vc_column_text][/vc_column][/vc_row]
URL:https://family-service.org/event/free-homebuyer-workshop/
LOCATION:Family Service Neighborhood Place\, 3014 Rivas St.\, San Antonio\, TX\, 78228\, United States
CATEGORIES:Partnerships
ATTACH;FMTTYPE=image/jpeg:https://family-service.org/wp-content/uploads/2023/07/362247991_764851162309943_660769812313548282_n.jpg
GEO:29.4418028;-98.556136
X-APPLE-STRUCTURED-LOCATION;VALUE=URI;X-ADDRESS=Family Service Neighborhood Place 3014 Rivas St. San Antonio TX 78228 United States;X-APPLE-RADIUS=500;X-TITLE=3014 Rivas St.:geo:-98.556136,29.4418028
END:VEVENT
BEGIN:VEVENT
DTSTART;TZID=America/Mexico_City:20230720T080000
DTEND;TZID=America/Mexico_City:20230720T153000
DTSTAMP:20260423T120743
CREATED:20230710T204746Z
LAST-MODIFIED:20230710T204746Z
UID:10001119-1689840000-1689867000@family-service.org
SUMMARY:Geek Squad Academy
DESCRIPTION:[vc_row type=”in_container” full_screen_row_position=”middle” column_margin=”default” column_direction=”default” column_direction_tablet=”default” column_direction_phone=”default” scene_position=”center” text_color=”dark” text_align=”left” row_border_radius=”none” row_border_radius_applies=”bg” overlay_strength=”0.3″ gradient_direction=”left_to_right” shape_divider_position=”bottom” bg_image_animation=”none”][vc_column column_padding=”no-extra-padding” column_padding_tablet=”inherit” column_padding_phone=”inherit” column_padding_position=”all” column_element_spacing=”default” background_color_opacity=”1″ background_hover_color_opacity=”1″ column_shadow=”none” column_border_radius=”none” column_link_target=”_self” gradient_direction=”left_to_right” overlay_strength=”0.3″ width=”1/1″ tablet_width_inherit=”default” tablet_text_alignment=”default” phone_text_alignment=”default” bg_image_animation=”none” border_type=”simple” column_border_width=”none” column_border_style=”solid”][vc_column_text]If you have anyone between the ages of 10-17 wanting to attend this 2-day FREE camp that introduces youth to many types of technology. The time frame for each day is 8AM-3:30PM each day. Lunch will be provided. Please register with the link below.\nONLY 150 SLOTS AVAILABLE! \nRegister Here: https://academy.geeksquad.com/register/san-antonio/tx \n[/vc_column_text][/vc_column][/vc_row]
URL:https://family-service.org/event/geek-squad-academy/2023-07-20/
LOCATION:TX
CATEGORIES:Partnerships
ATTACH;FMTTYPE=image/jpeg:https://family-service.org/wp-content/uploads/2023/07/354044418_740177534777306_2709418862638375985_n.jpg
END:VEVENT
BEGIN:VEVENT
DTSTART;TZID=America/Mexico_City:20230719T080000
DTEND;TZID=America/Mexico_City:20230719T153000
DTSTAMP:20260423T120743
CREATED:20230710T204746Z
LAST-MODIFIED:20230710T204746Z
UID:10001118-1689753600-1689780600@family-service.org
SUMMARY:Geek Squad Academy
DESCRIPTION:[vc_row type=”in_container” full_screen_row_position=”middle” column_margin=”default” column_direction=”default” column_direction_tablet=”default” column_direction_phone=”default” scene_position=”center” text_color=”dark” text_align=”left” row_border_radius=”none” row_border_radius_applies=”bg” overlay_strength=”0.3″ gradient_direction=”left_to_right” shape_divider_position=”bottom” bg_image_animation=”none”][vc_column column_padding=”no-extra-padding” column_padding_tablet=”inherit” column_padding_phone=”inherit” column_padding_position=”all” column_element_spacing=”default” background_color_opacity=”1″ background_hover_color_opacity=”1″ column_shadow=”none” column_border_radius=”none” column_link_target=”_self” gradient_direction=”left_to_right” overlay_strength=”0.3″ width=”1/1″ tablet_width_inherit=”default” tablet_text_alignment=”default” phone_text_alignment=”default” bg_image_animation=”none” border_type=”simple” column_border_width=”none” column_border_style=”solid”][vc_column_text]If you have anyone between the ages of 10-17 wanting to attend this 2-day FREE camp that introduces youth to many types of technology. The time frame for each day is 8AM-3:30PM each day. Lunch will be provided. Please register with the link below.\nONLY 150 SLOTS AVAILABLE! \nRegister Here: https://academy.geeksquad.com/register/san-antonio/tx \n[/vc_column_text][/vc_column][/vc_row]
URL:https://family-service.org/event/geek-squad-academy/2023-07-19/
LOCATION:TX
CATEGORIES:Partnerships
ATTACH;FMTTYPE=image/jpeg:https://family-service.org/wp-content/uploads/2023/07/354044418_740177534777306_2709418862638375985_n.jpg
END:VEVENT
END:VCALENDAR