BEGIN:VCALENDAR
VERSION:2.0
PRODID:-//Family Service - ECPv6.10.1//NONSGML v1.0//EN
CALSCALE:GREGORIAN
METHOD:PUBLISH
X-ORIGINAL-URL:https://family-service.org
X-WR-CALDESC:Events for Family Service
REFRESH-INTERVAL;VALUE=DURATION:PT1H
X-Robots-Tag:noindex
X-PUBLISHED-TTL:PT1H
BEGIN:VTIMEZONE
TZID:America/Mexico_City
BEGIN:DAYLIGHT
TZOFFSETFROM:-0600
TZOFFSETTO:-0500
TZNAME:CDT
DTSTART:20210404T080000
END:DAYLIGHT
BEGIN:STANDARD
TZOFFSETFROM:-0500
TZOFFSETTO:-0600
TZNAME:CST
DTSTART:20211031T070000
END:STANDARD
END:VTIMEZONE
BEGIN:VEVENT
DTSTART;VALUE=DATE:20210719
DTEND;VALUE=DATE:20210720
DTSTAMP:20260420T161148
CREATED:20210713T231050Z
LAST-MODIFIED:20210714T195530Z
UID:3992-1626652800-1626739199@family-service.org
SUMMARY:Wood Window Restoration Trades Class
DESCRIPTION:Earn money while you train\, and earn a job within the construction trade!\nBecome skilled in wood repair and reconstruction. The certificate program through Living Heritage Trades Academy provides hands-on trades training\, safety training\, and a paid apprenticeship at no charge to eligible participants. \nRegistration: July 12\, 10 AM\nOrientation: July 19\, 9 AM\nClass Starts: July 20 \nCall 210-431-4425 to register
URL:https://family-service.org/event/wwr-trades-class-july-2021/
LOCATION:Family Service Neighborhood Place\, 3014 Rivas St.\, San Antonio\, TX\, 78228\, United States
ATTACH;FMTTYPE=image/jpeg:https://family-service.org/wp-content/uploads/2021/06/family_service_trade_skills_paid_training__3.jpg
GEO:29.4418028;-98.556136
X-APPLE-STRUCTURED-LOCATION;VALUE=URI;X-ADDRESS=Family Service Neighborhood Place 3014 Rivas St. San Antonio TX 78228 United States;X-APPLE-RADIUS=500;X-TITLE=3014 Rivas St.:geo:-98.556136,29.4418028
END:VEVENT
END:VCALENDAR