BEGIN:VCALENDAR
VERSION:2.0
PRODID:-//Family Service - ECPv6.10.1//NONSGML v1.0//EN
CALSCALE:GREGORIAN
METHOD:PUBLISH
X-ORIGINAL-URL:https://family-service.org
X-WR-CALDESC:Events for Family Service
REFRESH-INTERVAL;VALUE=DURATION:PT1H
X-Robots-Tag:noindex
X-PUBLISHED-TTL:PT1H
BEGIN:VTIMEZONE
TZID:America/Mexico_City
BEGIN:STANDARD
TZOFFSETFROM:-0600
TZOFFSETTO:-0600
TZNAME:CST
DTSTART:20230101T000000
END:STANDARD
END:VTIMEZONE
BEGIN:VEVENT
DTSTART;TZID=America/Mexico_City:20230120T080000
DTEND;TZID=America/Mexico_City:20230120T160000
DTSTAMP:20260420T044947
CREATED:20221130T173239Z
LAST-MODIFIED:20221130T201754Z
UID:6792-1674201600-1674230400@family-service.org
SUMMARY:Pending(United Way) per Josh
DESCRIPTION:bm – 8/26/22
URL:https://family-service.org/event/pendingunited-way-per-josh/
LOCATION:Cafetorium
CATEGORIES:TNP-Space-Reservations
END:VEVENT
END:VCALENDAR