BEGIN:VCALENDAR
VERSION:2.0
PRODID:-//Family Service - ECPv6.10.1//NONSGML v1.0//EN
CALSCALE:GREGORIAN
METHOD:PUBLISH
X-ORIGINAL-URL:https://family-service.org
X-WR-CALDESC:Events for Family Service
REFRESH-INTERVAL;VALUE=DURATION:PT1H
X-Robots-Tag:noindex
X-PUBLISHED-TTL:PT1H
BEGIN:VTIMEZONE
TZID:America/Mexico_City
BEGIN:DAYLIGHT
TZOFFSETFROM:-0600
TZOFFSETTO:-0500
TZNAME:CDT
DTSTART:20220403T080000
END:DAYLIGHT
BEGIN:STANDARD
TZOFFSETFROM:-0500
TZOFFSETTO:-0600
TZNAME:CST
DTSTART:20221030T070000
END:STANDARD
END:VTIMEZONE
BEGIN:VEVENT
DTSTART;TZID=America/Mexico_City:20220729T160000
DTEND;TZID=America/Mexico_City:20220729T180000
DTSTAMP:20260420T045150
CREATED:20220720T230117Z
LAST-MODIFIED:20220722T200322Z
UID:4945-1659110400-1659117600@family-service.org
SUMMARY:Kendra Scott Gives Back
DESCRIPTION:JOIN US\nJoin us in-store at Kendra Scott at The Shops at La Cantera and when you mention Family Service at checkout\, 20% of proceeds will go back to Family Service. Sips & sweets provided! \nSHOP ONLINE\nVisit KendraScott.com anytime Friday\, July 29 – Saturday\, July 30 and use code GIVEBACK-CEWR at checkout to have 20% of your purchase go back to Family Service.
URL:https://family-service.org/event/kendra-gives-back-2/
LOCATION:Kendra Scott La Cantera\, 15900 La Cantera Pkwy Suite 2290\, San Antonio\, TX\, 78256\, United States
ATTACH;FMTTYPE=image/jpeg:https://family-service.org/wp-content/uploads/2022/07/famserv_kendra-scott-2022.jpg
GEO:29.5942316;-98.615799
X-APPLE-STRUCTURED-LOCATION;VALUE=URI;X-ADDRESS=Kendra Scott La Cantera 15900 La Cantera Pkwy Suite 2290 San Antonio TX 78256 United States;X-APPLE-RADIUS=500;X-TITLE=15900 La Cantera Pkwy Suite 2290:geo:-98.615799,29.5942316
END:VEVENT
END:VCALENDAR