BEGIN:VCALENDAR
VERSION:2.0
PRODID:-//Family Service - ECPv6.10.1//NONSGML v1.0//EN
CALSCALE:GREGORIAN
METHOD:PUBLISH
X-ORIGINAL-URL:https://family-service.org
X-WR-CALDESC:Events for Family Service
REFRESH-INTERVAL;VALUE=DURATION:PT1H
X-Robots-Tag:noindex
X-PUBLISHED-TTL:PT1H
BEGIN:VTIMEZONE
TZID:America/Mexico_City
BEGIN:DAYLIGHT
TZOFFSETFROM:-0600
TZOFFSETTO:-0500
TZNAME:CDT
DTSTART:20210404T080000
END:DAYLIGHT
BEGIN:STANDARD
TZOFFSETFROM:-0500
TZOFFSETTO:-0600
TZNAME:CST
DTSTART:20211031T070000
END:STANDARD
END:VTIMEZONE
BEGIN:VEVENT
DTSTART;TZID=America/Mexico_City:20210405T100000
DTEND;TZID=America/Mexico_City:20210405T130000
DTSTAMP:20260420T210051
CREATED:20210403T060359Z
LAST-MODIFIED:20210714T042043Z
UID:3344-1617616800-1617627600@family-service.org
SUMMARY:Job Training: Become a Certified Electrician
DESCRIPTION:Pre-apprenticeship training. Earn money while you train to become a certified electrician\, and earn a job as an electrician! \nRegistration Date: April 5th 10:00 AM -1:00 PM at Family Service Neighborhood Place (3014 Rivas St.) \nClasses Start: April 12th -30th 8:00 AM-5:00 PM\nStipends provided at $15/hour for 25 hours a week\, if eligible\, while in training. \nTraining provided by Lone Star Construction Trades Training covers basic electrical theory\, electrical code\, tool safety\, and hands-on training including wiring switches\, GFCI Receptacles\, 3-way switches\, duplex receptacles\, conduit binding\, and wiring a panel.
URL:https://family-service.org/event/job-training-become-a-certified-electrician/
LOCATION:Family Service Neighborhood Place\, 3014 Rivas St.\, San Antonio\, TX\, 78228\, United States
GEO:29.4418028;-98.556136
X-APPLE-STRUCTURED-LOCATION;VALUE=URI;X-ADDRESS=Family Service Neighborhood Place 3014 Rivas St. San Antonio TX 78228 United States;X-APPLE-RADIUS=500;X-TITLE=3014 Rivas St.:geo:-98.556136,29.4418028
END:VEVENT
END:VCALENDAR