BEGIN:VCALENDAR
VERSION:2.0
PRODID:-//Family Service - ECPv6.10.1//NONSGML v1.0//EN
CALSCALE:GREGORIAN
METHOD:PUBLISH
X-ORIGINAL-URL:https://family-service.org
X-WR-CALDESC:Events for Family Service
REFRESH-INTERVAL;VALUE=DURATION:PT1H
X-Robots-Tag:noindex
X-PUBLISHED-TTL:PT1H
BEGIN:VTIMEZONE
TZID:America/Mexico_City
BEGIN:STANDARD
TZOFFSETFROM:-0600
TZOFFSETTO:-0600
TZNAME:CST
DTSTART:20230101T000000
END:STANDARD
END:VTIMEZONE
BEGIN:VEVENT
DTSTART;TZID=America/Mexico_City:20230921T180000
DTEND;TZID=America/Mexico_City:20230921T200000
DTSTAMP:20260423T073345
CREATED:20230919T165003Z
LAST-MODIFIED:20230919T165003Z
UID:20875-1695319200-1695326400@family-service.org
SUMMARY:George Gervin Academy at Carmelite Open House PreK to K12
DESCRIPTION:[vc_row type=”in_container” full_screen_row_position=”middle” column_margin=”default” column_direction=”default” column_direction_tablet=”default” column_direction_phone=”default” scene_position=”center” text_color=”dark” text_align=”left” row_border_radius=”none” row_border_radius_applies=”bg” overlay_strength=”0.3″ gradient_direction=”left_to_right” shape_divider_position=”bottom” bg_image_animation=”none”][vc_column column_padding=”no-extra-padding” column_padding_tablet=”inherit” column_padding_phone=”inherit” column_padding_position=”all” column_element_spacing=”default” background_color_opacity=”1″ background_hover_color_opacity=”1″ column_shadow=”none” column_border_radius=”none” column_link_target=”_self” gradient_direction=”left_to_right” overlay_strength=”0.3″ width=”1/1″ tablet_width_inherit=”default” tablet_text_alignment=”default” phone_text_alignment=”default” bg_image_animation=”none” border_type=”simple” column_border_width=”none” column_border_style=”solid”][vc_column_text]You’re invited to the George Gervin Academy at Carmelite Open House for PreK to 12th grade. Join us for pulled pork\, paletas\, aguas frescas\, and more! Free Tuition![/vc_column_text][/vc_column][/vc_row]
URL:https://family-service.org/event/george-gervin-academy-at-carmelite-open-house-prek-to-k12/
LOCATION:Carmelite Learning Center\, 2006 Martin Luther King Dr\, San Antonio\, TX\, 78203\, United States
CATEGORIES:Family Service
ATTACH;FMTTYPE=image/jpeg:https://family-service.org/wp-content/uploads/2023/09/377446751_800671228727936_4795810355309411948_n.jpg
END:VEVENT
END:VCALENDAR