BEGIN:VCALENDAR
VERSION:2.0
PRODID:-//Family Service - ECPv6.10.1//NONSGML v1.0//EN
CALSCALE:GREGORIAN
METHOD:PUBLISH
X-ORIGINAL-URL:https://family-service.org
X-WR-CALDESC:Events for Family Service
REFRESH-INTERVAL;VALUE=DURATION:PT1H
X-Robots-Tag:noindex
X-PUBLISHED-TTL:PT1H
BEGIN:VTIMEZONE
TZID:America/Mexico_City
BEGIN:STANDARD
TZOFFSETFROM:-0600
TZOFFSETTO:-0600
TZNAME:CST
DTSTART:20240101T000000
END:STANDARD
END:VTIMEZONE
BEGIN:VEVENT
DTSTART;VALUE=DATE:20240729
DTEND;VALUE=DATE:20240803
DTSTAMP:20260423T151256
CREATED:20240725T164745Z
LAST-MODIFIED:20240725T164745Z
UID:34773-1722211200-1722643199@family-service.org
SUMMARY:Free Pre-Apprenticeship Electrical Training
DESCRIPTION:One-week\, 40-hour training provided by Lone Star Construction Trades Training covers basic electrical theory\, electrical code\, tool safety\, and hands-on training including wiring switches\, GFCI Receptacles\, 3-way switches\, duplex receptacles\, conduit binding\, and wiring a panel.
URL:https://family-service.org/event/free-pre-apprenticeship-electrical-training-3/
CATEGORIES:Trade Skills
END:VEVENT
END:VCALENDAR