BEGIN:VCALENDAR
VERSION:2.0
PRODID:-//Family Service - ECPv6.10.1//NONSGML v1.0//EN
CALSCALE:GREGORIAN
METHOD:PUBLISH
X-ORIGINAL-URL:https://family-service.org
X-WR-CALDESC:Events for Family Service
REFRESH-INTERVAL;VALUE=DURATION:PT1H
X-Robots-Tag:noindex
X-PUBLISHED-TTL:PT1H
BEGIN:VTIMEZONE
TZID:America/Mexico_City
BEGIN:STANDARD
TZOFFSETFROM:-0600
TZOFFSETTO:-0600
TZNAME:CST
DTSTART:20250101T000000
END:STANDARD
END:VTIMEZONE
BEGIN:VEVENT
DTSTART;TZID=America/Mexico_City:20250401T090000
DTEND;TZID=America/Mexico_City:20250401T130000
DTSTAMP:20260420T030957
CREATED:20220721T171939Z
LAST-MODIFIED:20250303T132650Z
UID:4972-1743498000-1743512400@family-service.org
SUMMARY:Free Financial and Legal Fair
DESCRIPTION:FINANCIAL AND LEGAL FAIR \nSaturday March 1\, 2025 – 9 am to 1 pm – Family Service Neighborhood Place\n3014 Rivas St. San Antonio\, TX 78228 \n* FINANCIAL COUNSELING\n* LEGAL ADVICE\n* TAX PREPARATION ADVICE \n*Bexar County Clerk’s Mobile Unit \n*Bexar County Economic and Community\n*Development \n*Volunteer Income Tax Prepartation\n(VITA) \n* Building monthly spending and savings plans\n* Strategies to reduce or eliminate debt\n* Maximizing employee benefits Life insurance Investments\n* Social Security strategies Retirement planning Retirement\n* savings tax credit Estate planning for your family
URL:https://family-service.org/event/financial-and-legal-fair/
LOCATION:Family Service Neighborhood Place\, 3014 Rivas St.\, San Antonio\, TX\, 78228\, United States
ATTACH;FMTTYPE=image/jpeg:https://family-service.org/wp-content/uploads/2022/07/financial-and-legal-fair-MARCH-1-2025-REVISED_Page_1-scaled.jpg
GEO:29.4418028;-98.556136
X-APPLE-STRUCTURED-LOCATION;VALUE=URI;X-ADDRESS=Family Service Neighborhood Place 3014 Rivas St. San Antonio TX 78228 United States;X-APPLE-RADIUS=500;X-TITLE=3014 Rivas St.:geo:-98.556136,29.4418028
END:VEVENT
END:VCALENDAR