BEGIN:VCALENDAR
VERSION:2.0
PRODID:-//Family Service - ECPv6.10.1//NONSGML v1.0//EN
CALSCALE:GREGORIAN
METHOD:PUBLISH
X-ORIGINAL-URL:https://family-service.org
X-WR-CALDESC:Events for Family Service
REFRESH-INTERVAL;VALUE=DURATION:PT1H
X-Robots-Tag:noindex
X-PUBLISHED-TTL:PT1H
BEGIN:VTIMEZONE
TZID:America/Mexico_City
BEGIN:DAYLIGHT
TZOFFSETFROM:-0600
TZOFFSETTO:-0500
TZNAME:CDT
DTSTART:20210404T080000
END:DAYLIGHT
BEGIN:STANDARD
TZOFFSETFROM:-0500
TZOFFSETTO:-0600
TZNAME:CST
DTSTART:20211031T070000
END:STANDARD
END:VTIMEZONE
BEGIN:VEVENT
DTSTART;TZID=America/Mexico_City:20210727T090000
DTEND;TZID=America/Mexico_City:20210727T130000
DTSTAMP:20260420T125431
CREATED:20210713T230616Z
LAST-MODIFIED:20210726T205131Z
UID:3990-1627376400-1627390800@family-service.org
SUMMARY:Family Service Early Childhood Education Job Fair
DESCRIPTION:Bring your resume\, proof of high school diploma\, GED\, or HSE\, and unofficial transcripts to apply on-site at the event \n\nEarly Childhood Teachers & Teacher Assistants\nEducation Center Operator\nMonitoring & Inclusion Specialists\nParent Advocates\nEducation Coaches\nSubstitute Teachers\n\nInformation on licensing training courses and our workforce development team will also be available for questions to start you on an early childhood education career path! \nCall 210-846-6712 for more information
URL:https://family-service.org/event/ece-job-fair-2021/
LOCATION:Family Service Neighborhood Place\, 3014 Rivas St.\, San Antonio\, TX\, 78228\, United States
ATTACH;FMTTYPE=image/png:https://family-service.org/wp-content/uploads/2021/03/family_service_early_childhood_education.png
GEO:29.4418028;-98.556136
X-APPLE-STRUCTURED-LOCATION;VALUE=URI;X-ADDRESS=Family Service Neighborhood Place 3014 Rivas St. San Antonio TX 78228 United States;X-APPLE-RADIUS=500;X-TITLE=3014 Rivas St.:geo:-98.556136,29.4418028
END:VEVENT
END:VCALENDAR