BEGIN:VCALENDAR
VERSION:2.0
PRODID:-//Family Service - ECPv6.10.1//NONSGML v1.0//EN
CALSCALE:GREGORIAN
METHOD:PUBLISH
X-ORIGINAL-URL:https://family-service.org
X-WR-CALDESC:Events for Family Service
REFRESH-INTERVAL;VALUE=DURATION:PT1H
X-Robots-Tag:noindex
X-PUBLISHED-TTL:PT1H
BEGIN:VTIMEZONE
TZID:America/Mexico_City
BEGIN:DAYLIGHT
TZOFFSETFROM:-0600
TZOFFSETTO:-0500
TZNAME:CDT
DTSTART:20210404T080000
END:DAYLIGHT
BEGIN:STANDARD
TZOFFSETFROM:-0500
TZOFFSETTO:-0600
TZNAME:CST
DTSTART:20211031T070000
END:STANDARD
END:VTIMEZONE
BEGIN:VEVENT
DTSTART;VALUE=DATE:20210701
DTEND;VALUE=DATE:20210801
DTSTAMP:20260420T174731
CREATED:20210721T045409Z
LAST-MODIFIED:20210729T180205Z
UID:4101-1625097600-1627775999@family-service.org
SUMMARY:Back to School Events
DESCRIPTION:Join Family Service and our partners in helping every student be back to school ready. \n\nAncira Backpack Drive: Ancira dealers through July\nPico De Gallo: Khakis for Churros: July 30\, 11 AM-7 PM\nKendra Gives Back: In Store July 30\, 6-8 PM and online July 30 & 31\n\n  \nThank you to our partners for their continued support.
URL:https://family-service.org/event/back-to-school-events-2021/
ATTACH;FMTTYPE=image/png:https://family-service.org/wp-content/uploads/2021/07/family_service_back_to_school_web.png
END:VEVENT
END:VCALENDAR