BEGIN:VCALENDAR
VERSION:2.0
PRODID:-//Family Service - ECPv6.10.1//NONSGML v1.0//EN
CALSCALE:GREGORIAN
METHOD:PUBLISH
X-ORIGINAL-URL:https://family-service.org
X-WR-CALDESC:Events for Family Service
REFRESH-INTERVAL;VALUE=DURATION:PT1H
X-Robots-Tag:noindex
X-PUBLISHED-TTL:PT1H
BEGIN:VTIMEZONE
TZID:America/Mexico_City
BEGIN:STANDARD
TZOFFSETFROM:-0600
TZOFFSETTO:-0600
TZNAME:CST
DTSTART:20250101T000000
END:STANDARD
END:VTIMEZONE
BEGIN:VEVENT
DTSTART;TZID=America/Mexico_City:20251007T160000
DTEND;TZID=America/Mexico_City:20251007T190000
DTSTAMP:20260420T031633
CREATED:20230920T175734Z
LAST-MODIFIED:20250827T162327Z
UID:20955-1759852800-1759863600@family-service.org
SUMMARY:7th Annual National Night Out
DESCRIPTION:[vc_row type=”in_container” full_screen_row_position=”middle” column_margin=”default” column_direction=”default” column_direction_tablet=”default” column_direction_phone=”default” scene_position=”center” text_color=”dark” text_align=”left” row_border_radius=”none” row_border_radius_applies=”bg” overlay_strength=”0.3″ gradient_direction=”left_to_right” shape_divider_position=”bottom” bg_image_animation=”none”][vc_column column_padding=”no-extra-padding” column_padding_tablet=”inherit” column_padding_phone=”inherit” column_padding_position=”all” column_element_spacing=”default” background_color_opacity=”1″ background_hover_color_opacity=”1″ column_shadow=”none” column_border_radius=”none” column_link_target=”_self” gradient_direction=”left_to_right” overlay_strength=”0.3″ width=”1/1″ tablet_width_inherit=”default” tablet_text_alignment=”default” phone_text_alignment=”default” bg_image_animation=”none” border_type=”simple” column_border_width=”none” column_border_style=”solid”][vc_column_text]Join Family Service for National Night Out! Come have fun\, play games\, listen to music and visit event vendors providing resources\, activity kits. More information on the event to come. register now[/vc_column_text][/vc_column][/vc_row]
URL:https://family-service.org/event/7th-annual-national-night-out/
LOCATION:Family Service Neighborhood Place\, 3014 Rivas St.\, San Antonio\, TX\, 78228\, United States
ATTACH;FMTTYPE=image/jpeg:https://family-service.org/wp-content/uploads/2023/08/366953673_781151374013255_4860752334010976802_n.jpg
GEO:29.4418028;-98.556136
X-APPLE-STRUCTURED-LOCATION;VALUE=URI;X-ADDRESS=Family Service Neighborhood Place 3014 Rivas St. San Antonio TX 78228 United States;X-APPLE-RADIUS=500;X-TITLE=3014 Rivas St.:geo:-98.556136,29.4418028
END:VEVENT
END:VCALENDAR